BEGIN:VCALENDAR
VERSION:2.0
PRODID:-//Divine Trinity - ECPv4.9.14//NONSGML v1.0//EN
CALSCALE:GREGORIAN
METHOD:PUBLISH
X-WR-CALNAME:Divine Trinity
X-ORIGINAL-URL:https://divinetrinity.org
X-WR-CALDESC:Events for Divine Trinity
BEGIN:VTIMEZONE
TZID:America/New_York
BEGIN:DAYLIGHT
TZOFFSETFROM:-0500
TZOFFSETTO:-0400
TZNAME:EDT
DTSTART:20170312T070000
END:DAYLIGHT
BEGIN:STANDARD
TZOFFSETFROM:-0400
TZOFFSETTO:-0500
TZNAME:EST
DTSTART:20171105T060000
END:STANDARD
END:VTIMEZONE
BEGIN:VEVENT
DTSTART;TZID=America/New_York:20171014T193000
DTEND;TZID=America/New_York:20171014T230000
DTSTAMP:20260425T142633
CREATED:20170828T041222Z
LAST-MODIFIED:20170917T231301Z
UID:27324-1508009400-1508022000@divinetrinity.org
SUMMARY:Tailgate Social
DESCRIPTION: \nClick this Link or the above Picture to Register \n
URL:https://divinetrinity.org/event/tailgate-social/
LOCATION:Divine Trinity Temple\, 500 Vine Ave NE\, Warren\, OH\, 44483\, United States
GEO:41.241448;-80.813323
X-APPLE-STRUCTURED-LOCATION;VALUE=URI;X-ADDRESS=Divine Trinity Temple 500 Vine Ave NE Warren OH 44483 United States;X-APPLE-RADIUS=500;X-TITLE=500 Vine Ave NE:geo:-80.813323,41.241448
END:VEVENT
END:VCALENDAR