BEGIN:VCALENDAR
VERSION:2.0
PRODID:-//Divine Trinity - ECPv4.9.14//NONSGML v1.0//EN
CALSCALE:GREGORIAN
METHOD:PUBLISH
X-WR-CALNAME:Divine Trinity
X-ORIGINAL-URL:https://divinetrinity.org
X-WR-CALDESC:Events for Divine Trinity
BEGIN:VTIMEZONE
TZID:America/New_York
BEGIN:DAYLIGHT
TZOFFSETFROM:-0500
TZOFFSETTO:-0400
TZNAME:EDT
DTSTART:20170312T070000
END:DAYLIGHT
BEGIN:STANDARD
TZOFFSETFROM:-0400
TZOFFSETTO:-0500
TZNAME:EST
DTSTART:20171105T060000
END:STANDARD
END:VTIMEZONE
BEGIN:VEVENT
DTSTART;TZID=America/New_York:20170809T120000
DTEND;TZID=America/New_York:20170809T130000
DTSTAMP:20260425T124829
CREATED:20170523T222236Z
LAST-MODIFIED:20170809T073454Z
UID:26377-1502280000-1502283600@divinetrinity.org
SUMMARY:Soto Meeting
DESCRIPTION:
URL:https://divinetrinity.org/event/soto-meeting-3/
END:VEVENT
END:VCALENDAR