BEGIN:VCALENDAR
VERSION:2.0
PRODID:-//Divine Trinity - ECPv4.9.14//NONSGML v1.0//EN
CALSCALE:GREGORIAN
METHOD:PUBLISH
X-WR-CALNAME:Divine Trinity
X-ORIGINAL-URL:https://divinetrinity.org
X-WR-CALDESC:Events for Divine Trinity
BEGIN:VTIMEZONE
TZID:America/New_York
BEGIN:DAYLIGHT
TZOFFSETFROM:-0500
TZOFFSETTO:-0400
TZNAME:EDT
DTSTART:20160313T070000
END:DAYLIGHT
BEGIN:STANDARD
TZOFFSETFROM:-0400
TZOFFSETTO:-0500
TZNAME:EST
DTSTART:20161106T060000
END:STANDARD
END:VTIMEZONE
BEGIN:VEVENT
DTSTART;TZID=America/New_York:20160320T160000
DTEND;TZID=America/New_York:20160320T182500
DTSTAMP:20260425T140807
CREATED:20150922T000025Z
LAST-MODIFIED:20160124T000926Z
UID:25567-1458489600-1458498300@divinetrinity.org
SUMMARY:Sons of Thunder Fellowship
DESCRIPTION:
URL:https://divinetrinity.org/event/sons-of-thunder-fellowship/
LOCATION:St Pauls Church Of God in Christ\, 2100 Colonial Street Southeast\, Warren\, OH\, 44484\, United States
GEO:41.222752;-80.7943729
X-APPLE-STRUCTURED-LOCATION;VALUE=URI;X-ADDRESS=St Pauls Church Of God in Christ 2100 Colonial Street Southeast Warren OH 44484 United States;X-APPLE-RADIUS=500;X-TITLE=2100 Colonial Street Southeast:geo:-80.7943729,41.222752
END:VEVENT
END:VCALENDAR