BEGIN:VCALENDAR
VERSION:2.0
PRODID:-//Divine Trinity - ECPv4.9.14//NONSGML v1.0//EN
CALSCALE:GREGORIAN
METHOD:PUBLISH
X-WR-CALNAME:Divine Trinity
X-ORIGINAL-URL:https://divinetrinity.org
X-WR-CALDESC:Events for Divine Trinity
BEGIN:VTIMEZONE
TZID:America/New_York
BEGIN:DAYLIGHT
TZOFFSETFROM:-0500
TZOFFSETTO:-0400
TZNAME:EDT
DTSTART:20190310T070000
END:DAYLIGHT
BEGIN:STANDARD
TZOFFSETFROM:-0400
TZOFFSETTO:-0500
TZNAME:EST
DTSTART:20191103T060000
END:STANDARD
END:VTIMEZONE
BEGIN:VEVENT
DTSTART;VALUE=DATE:20190527
DTEND;VALUE=DATE:20190528
DTSTAMP:20260425T205950
CREATED:20170606T132741Z
LAST-MODIFIED:20170606T132741Z
UID:27198-1558915200-1558915200@divinetrinity.org
SUMMARY:Shalisha May's Birthday
DESCRIPTION:Link: Shalisha May \n
URL:https://divinetrinity.org/event/shalisha-mays-birthday-4/
CATEGORIES:Http://schemas.google.com/g/2005#event
END:VEVENT
END:VCALENDAR