BEGIN:VCALENDAR
VERSION:2.0
PRODID:-//Divine Trinity - ECPv4.9.14//NONSGML v1.0//EN
CALSCALE:GREGORIAN
METHOD:PUBLISH
X-WR-CALNAME:Divine Trinity
X-ORIGINAL-URL:https://divinetrinity.org
X-WR-CALDESC:Events for Divine Trinity
BEGIN:VTIMEZONE
TZID:America/New_York
BEGIN:DAYLIGHT
TZOFFSETFROM:-0500
TZOFFSETTO:-0400
TZNAME:EDT
DTSTART:20170312T070000
END:DAYLIGHT
BEGIN:STANDARD
TZOFFSETFROM:-0400
TZOFFSETTO:-0500
TZNAME:EST
DTSTART:20171105T060000
END:STANDARD
END:VTIMEZONE
BEGIN:VEVENT
DTSTART;TZID=America/New_York:20170802T200000
DTEND;TZID=America/New_York:20170802T200000
DTSTAMP:20260425T142938
CREATED:20170523T222233Z
LAST-MODIFIED:20170802T061639Z
UID:26371-1501704000-1501704000@divinetrinity.org
SUMMARY:Rasheda May's Birthday
DESCRIPTION:
URL:https://divinetrinity.org/event/rasheda-mays-birthday-3/
LOCATION:Warren
CATEGORIES:Http://schemas.google.com/g/2005#event
END:VEVENT
END:VCALENDAR