BEGIN:VCALENDAR
VERSION:2.0
PRODID:-//Divine Trinity - ECPv4.9.14//NONSGML v1.0//EN
CALSCALE:GREGORIAN
METHOD:PUBLISH
X-WR-CALNAME:Divine Trinity
X-ORIGINAL-URL:https://divinetrinity.org
X-WR-CALDESC:Events for Divine Trinity
BEGIN:VTIMEZONE
TZID:America/New_York
BEGIN:DAYLIGHT
TZOFFSETFROM:-0500
TZOFFSETTO:-0400
TZNAME:EDT
DTSTART:20180311T070000
END:DAYLIGHT
BEGIN:STANDARD
TZOFFSETFROM:-0400
TZOFFSETTO:-0500
TZNAME:EST
DTSTART:20181104T060000
END:STANDARD
END:VTIMEZONE
BEGIN:VEVENT
DTSTART;VALUE=DATE:20180801
DTEND;VALUE=DATE:20180802
DTSTAMP:20260425T201813
CREATED:20170523T222426Z
LAST-MODIFIED:20170830T104059Z
UID:26590-1533081600-1533167999@divinetrinity.org
SUMMARY:Priscilla King Ringold's Birthday
DESCRIPTION:Link: Priscilla Ringold \n
URL:https://divinetrinity.org/event/priscilla-king-ringolds-birthday-2/
CATEGORIES:Http://schemas.google.com/g/2005#event
END:VEVENT
END:VCALENDAR