BEGIN:VCALENDAR
VERSION:2.0
PRODID:-//Divine Trinity - ECPv4.9.14//NONSGML v1.0//EN
CALSCALE:GREGORIAN
METHOD:PUBLISH
X-WR-CALNAME:Divine Trinity
X-ORIGINAL-URL:https://divinetrinity.org
X-WR-CALDESC:Events for Divine Trinity
BEGIN:VTIMEZONE
TZID:America/New_York
BEGIN:DAYLIGHT
TZOFFSETFROM:-0500
TZOFFSETTO:-0400
TZNAME:EDT
DTSTART:20180311T070000
END:DAYLIGHT
BEGIN:STANDARD
TZOFFSETFROM:-0400
TZOFFSETTO:-0500
TZNAME:EST
DTSTART:20181104T060000
END:STANDARD
END:VTIMEZONE
BEGIN:VEVENT
DTSTART;TZID=America/New_York:20180323T090000
DTEND;TZID=America/New_York:20180323T100000
DTSTAMP:20260425T040652
CREATED:20180321T171932Z
LAST-MODIFIED:20180323T173444Z
UID:29314-1521795600-1521799200@divinetrinity.org
SUMMARY:Pick up license
DESCRIPTION:
URL:https://divinetrinity.org/event/pick-up-license/
END:VEVENT
END:VCALENDAR