BEGIN:VCALENDAR
VERSION:2.0
PRODID:-//Divine Trinity - ECPv4.9.14//NONSGML v1.0//EN
CALSCALE:GREGORIAN
METHOD:PUBLISH
X-WR-CALNAME:Divine Trinity
X-ORIGINAL-URL:https://divinetrinity.org
X-WR-CALDESC:Events for Divine Trinity
BEGIN:VTIMEZONE
TZID:America/New_York
BEGIN:DAYLIGHT
TZOFFSETFROM:-0500
TZOFFSETTO:-0400
TZNAME:EDT
DTSTART:20160313T070000
END:DAYLIGHT
BEGIN:STANDARD
TZOFFSETFROM:-0400
TZOFFSETTO:-0500
TZNAME:EST
DTSTART:20161106T060000
END:STANDARD
END:VTIMEZONE
BEGIN:VEVENT
DTSTART;TZID=America/New_York:20160724T160000
DTEND;TZID=America/New_York:20160724T180000
DTSTAMP:20260425T142638
CREATED:20160125T001310Z
LAST-MODIFIED:20160125T001310Z
UID:26009-1469376000-1469383200@divinetrinity.org
SUMMARY:Pastor's Send-off
DESCRIPTION:
URL:https://divinetrinity.org/event/pastors-send-off/
LOCATION:Divine Trinity Temple\, 500 Vine Ave NE\, Warren\, 44483\, United States
CATEGORIES:Fellowship,Fund Raiser
ORGANIZER;CN="John%20May%20Jr":MAILTO:event@divinetrinity.org
GEO:41.241448;-80.813323
X-APPLE-STRUCTURED-LOCATION;VALUE=URI;X-ADDRESS=Divine Trinity Temple 500 Vine Ave NE Warren 44483 United States;X-APPLE-RADIUS=500;X-TITLE=500 Vine Ave NE:geo:-80.813323,41.241448
END:VEVENT
END:VCALENDAR