BEGIN:VCALENDAR
VERSION:2.0
PRODID:-//Divine Trinity - ECPv4.9.14//NONSGML v1.0//EN
CALSCALE:GREGORIAN
METHOD:PUBLISH
X-WR-CALNAME:Divine Trinity
X-ORIGINAL-URL:https://divinetrinity.org
X-WR-CALDESC:Events for Divine Trinity
BEGIN:VTIMEZONE
TZID:America/New_York
BEGIN:DAYLIGHT
TZOFFSETFROM:-0500
TZOFFSETTO:-0400
TZNAME:EDT
DTSTART:20150308T070000
END:DAYLIGHT
BEGIN:STANDARD
TZOFFSETFROM:-0400
TZOFFSETTO:-0500
TZNAME:EST
DTSTART:20151101T060000
END:STANDARD
END:VTIMEZONE
BEGIN:VEVENT
DTSTART;TZID=America/New_York:20151004T100000
DTEND;TZID=America/New_York:20151004T130000
DTSTAMP:20260425T141409
CREATED:20150921T234547Z
LAST-MODIFIED:20150921T234547Z
UID:25560-1443952800-1443963600@divinetrinity.org
SUMMARY:Guest Speaker
DESCRIPTION: \nMin. Alcee Butler\, Jr. Biography \nMin. Butler was born in 1953 in Wesson\, Mississippi to the parents of Deacon Alcee and Betty J. Butler. His parents relocated to Ohio when he was only 2 years old. Raised in Barberton\, Oh\, the calling on his life\, at first\, was ignored and although he didn’t want to believe it\, God would not leave him alone. \nUpon accepting his call he became an associate minister of the Greater Galilee Baptist Church in Barberton\, Oh where Bishop Emmett Jason Lee is the pastor. \nGod has laid it upon Min. Butler’s heart to teach\, preach and spread the Gospel of Christ and prepare God’s people for the return of His Son. Min. Butler is currently pursuing an Associate’s degree at Andersonville Theological Seminary in Atlanta\, GA and continuing on at Atlantic Coast College and Seminary for dual major degrees for a Bachelor of Arts in Pastoral Ministry and a Master of Divinity. \nMin. Butler is the loving father of 5 beautiful daughters and the second born of 3 brothers and 2 sisters. He currently resides in Barberton\, OH and God has him currently unmarried to continue in his wilderness experience concerning the wisdom\, knowledge and understanding of His Word\, His Will and His Way. \n
URL:https://divinetrinity.org/event/guest-speaker/
LOCATION:Divine Trinity Temple\, 500 Vine Ave NE\, Warren\, 44483
ORGANIZER;CN="Admin":MAILTO:Event@divinetrinity.org
GEO:41.241448;-80.813323
X-APPLE-STRUCTURED-LOCATION;VALUE=URI;X-ADDRESS=Divine Trinity Temple 500 Vine Ave NE Warren 44483;X-APPLE-RADIUS=500;X-TITLE=500 Vine Ave NE:geo:-80.813323,41.241448
END:VEVENT
END:VCALENDAR