BEGIN:VCALENDAR
VERSION:2.0
PRODID:-//Divine Trinity - ECPv4.9.14//NONSGML v1.0//EN
CALSCALE:GREGORIAN
METHOD:PUBLISH
X-WR-CALNAME:Divine Trinity
X-ORIGINAL-URL:https://divinetrinity.org
X-WR-CALDESC:Events for Divine Trinity
BEGIN:VTIMEZONE
TZID:America/New_York
BEGIN:DAYLIGHT
TZOFFSETFROM:-0500
TZOFFSETTO:-0400
TZNAME:EDT
DTSTART:20150308T070000
END:DAYLIGHT
BEGIN:STANDARD
TZOFFSETFROM:-0400
TZOFFSETTO:-0500
TZNAME:EST
DTSTART:20151101T060000
END:STANDARD
END:VTIMEZONE
BEGIN:VEVENT
DTSTART;TZID=America/New_York:20151219T170000
DTEND;TZID=America/New_York:20151219T210000
DTSTAMP:20260425T145136
CREATED:20150922T003757Z
LAST-MODIFIED:20150925T194036Z
UID:25583-1450544400-1450558800@divinetrinity.org
SUMMARY:Divine Trinity's Yuletide Banquet
DESCRIPTION:
URL:https://divinetrinity.org/event/divine-trinitys-yuletide-banquet/
LOCATION:Divine Trinity Temple\, 500 Vine Ave NE\, Warren\, 44483
ORGANIZER;CN="Tasha%20May":MAILTO:Event@divinetrinity.org
GEO:41.241448;-80.813323
X-APPLE-STRUCTURED-LOCATION;VALUE=URI;X-ADDRESS=Divine Trinity Temple 500 Vine Ave NE Warren 44483;X-APPLE-RADIUS=500;X-TITLE=500 Vine Ave NE:geo:-80.813323,41.241448
END:VEVENT
END:VCALENDAR