BEGIN:VCALENDAR
VERSION:2.0
PRODID:-//Divine Trinity - ECPv4.9.14//NONSGML v1.0//EN
CALSCALE:GREGORIAN
METHOD:PUBLISH
X-WR-CALNAME:Divine Trinity
X-ORIGINAL-URL:https://divinetrinity.org
X-WR-CALDESC:Events for Divine Trinity
BEGIN:VTIMEZONE
TZID:America/New_York
BEGIN:DAYLIGHT
TZOFFSETFROM:-0500
TZOFFSETTO:-0400
TZNAME:EDT
DTSTART:20170312T070000
END:DAYLIGHT
BEGIN:STANDARD
TZOFFSETFROM:-0400
TZOFFSETTO:-0500
TZNAME:EST
DTSTART:20171105T060000
END:STANDARD
END:VTIMEZONE
BEGIN:VEVENT
DTSTART;TZID=America/New_York:20170525T130000
DTEND;TZID=America/New_York:20170525T150000
DTSTAMP:20260425T142931
CREATED:20170523T222208Z
LAST-MODIFIED:20170523T222208Z
UID:26323-1495717200-1495724400@divinetrinity.org
SUMMARY:COGIC Coalition Meeting
DESCRIPTION:
URL:https://divinetrinity.org/event/cogic-coalition-meeting/
LOCATION:Pastor Howard
END:VEVENT
END:VCALENDAR