BEGIN:VCALENDAR
VERSION:2.0
PRODID:-//Divine Trinity - ECPv4.9.14//NONSGML v1.0//EN
CALSCALE:GREGORIAN
METHOD:PUBLISH
X-WR-CALNAME:Divine Trinity
X-ORIGINAL-URL:https://divinetrinity.org
X-WR-CALDESC:Events for Divine Trinity
BEGIN:VTIMEZONE
TZID:America/New_York
BEGIN:DAYLIGHT
TZOFFSETFROM:-0500
TZOFFSETTO:-0400
TZNAME:EDT
DTSTART:20160313T070000
END:DAYLIGHT
BEGIN:STANDARD
TZOFFSETFROM:-0400
TZOFFSETTO:-0500
TZNAME:EST
DTSTART:20161106T060000
END:STANDARD
END:VTIMEZONE
BEGIN:VEVENT
DTSTART;VALUE=DATE:20160404
DTEND;VALUE=DATE:20160408
DTSTAMP:20260425T040858
CREATED:20160124T004442Z
LAST-MODIFIED:20160124T004442Z
UID:25988-1459728000-1460073599@divinetrinity.org
SUMMARY:Annual Spring Call Meeting
DESCRIPTION:
URL:https://divinetrinity.org/event/annual-spring-call-meeting/
LOCATION:Unnamed Venue\, Memphis\, TN\, United States
CATEGORIES:Church Service,Conference
GEO:35.1495343;-90.0489801
END:VEVENT
END:VCALENDAR