BEGIN:VCALENDAR
VERSION:2.0
PRODID:-//Divine Trinity - ECPv4.9.14//NONSGML v1.0//EN
CALSCALE:GREGORIAN
METHOD:PUBLISH
X-WR-CALNAME:Divine Trinity
X-ORIGINAL-URL:https://divinetrinity.org
X-WR-CALDESC:Events for Divine Trinity
BEGIN:VTIMEZONE
TZID:America/New_York
BEGIN:DAYLIGHT
TZOFFSETFROM:-0500
TZOFFSETTO:-0400
TZNAME:EDT
DTSTART:20160313T070000
END:DAYLIGHT
BEGIN:STANDARD
TZOFFSETFROM:-0400
TZOFFSETTO:-0500
TZNAME:EST
DTSTART:20161106T060000
END:STANDARD
END:VTIMEZONE
BEGIN:VEVENT
DTSTART;VALUE=DATE:20160118
DTEND;VALUE=DATE:20160122
DTSTAMP:20260425T140351
CREATED:20160123T231640Z
LAST-MODIFIED:20160123T231640Z
UID:25852-1453075200-1453420799@divinetrinity.org
SUMMARY:Annual Leadership Conference
DESCRIPTION:
URL:https://divinetrinity.org/event/annual-leadership-conference/
LOCATION:Unnamed Venue\, Albuquerque\, NM\, United States
GEO:35.0853336;-106.6055534
END:VEVENT
END:VCALENDAR